BEGIN:VCALENDAR
VERSION:2.0
PRODID:-//Bessingen - ECPv6.15.20//NONSGML v1.0//EN
CALSCALE:GREGORIAN
METHOD:PUBLISH
X-WR-CALNAME:Bessingen
X-ORIGINAL-URL:https://bessingen.com
X-WR-CALDESC:Veranstaltungen für Bessingen
REFRESH-INTERVAL;VALUE=DURATION:PT1H
X-Robots-Tag:noindex
X-PUBLISHED-TTL:PT1H
BEGIN:VTIMEZONE
TZID:Europe/Berlin
BEGIN:DAYLIGHT
TZOFFSETFROM:+0100
TZOFFSETTO:+0200
TZNAME:CEST
DTSTART:20250330T010000
END:DAYLIGHT
BEGIN:STANDARD
TZOFFSETFROM:+0200
TZOFFSETTO:+0100
TZNAME:CET
DTSTART:20251026T010000
END:STANDARD
BEGIN:DAYLIGHT
TZOFFSETFROM:+0100
TZOFFSETTO:+0200
TZNAME:CEST
DTSTART:20260329T010000
END:DAYLIGHT
BEGIN:STANDARD
TZOFFSETFROM:+0200
TZOFFSETTO:+0100
TZNAME:CET
DTSTART:20261025T010000
END:STANDARD
BEGIN:DAYLIGHT
TZOFFSETFROM:+0100
TZOFFSETTO:+0200
TZNAME:CEST
DTSTART:20270328T010000
END:DAYLIGHT
BEGIN:STANDARD
TZOFFSETFROM:+0200
TZOFFSETTO:+0100
TZNAME:CET
DTSTART:20271031T010000
END:STANDARD
END:VTIMEZONE
BEGIN:VEVENT
DTSTART;TZID=Europe/Berlin:20260424T150000
DTEND;TZID=Europe/Berlin:20260424T193000
DTSTAMP:20260424T014743
CREATED:20260421T200629Z
LAST-MODIFIED:20260421T200748Z
UID:38652-1777042800-1777059000@bessingen.com
SUMMARY:Blutspende-Aktion in Bisperode
DESCRIPTION:Als kleinen Support für unseren Nachbarort: \nBlutspende-Aktion in der neuen Feuerwache Bisperode\, Horstweg 26 durch das DRK über die Freiwillige Feuerwehr Bisperode. \n \nTerminvereinbarung unter: https://www.spenderservice.net/termine/403192?term=31863
URL:https://bessingen.com/event/blutspende-aktion-in-bisperode-4/
LOCATION:Feuerwache Bisperode\, Horstweg 26\, Coppenbrügge\, Niedersachsen\, 31863\, Germany
CATEGORIES:Sonstiges
ATTACH;FMTTYPE=image/jpeg:https://bessingen.com/wp-content/uploads/Blutspende-Logo-e1745436899922.jpg
END:VEVENT
BEGIN:VEVENT
DTSTART;TZID=Europe/Berlin:20260424T193000
DTEND;TZID=Europe/Berlin:20260424T213000
DTSTAMP:20260424T014743
CREATED:20260117T184240Z
LAST-MODIFIED:20260117T150405Z
UID:38518-1777059000-1777066200@bessingen.com
SUMMARY:Dienst FF Bessingen
DESCRIPTION:Sonder-Dienst der Freiwilligen Feuerwehr Bessingen lt. Dienstplan: \nMaschinisten Dienst \nVeranstaltungsort: Feuerwehrhaus/DGH \nLeitender lt. Dienstplan: T. Schnake \nAnzugordnung: Einsatzanzug \n 
URL:https://bessingen.com/event/dienst-ff-bessingen-35/
LOCATION:DGH\, Bessinger Straße 24\, Coppenbrügge\, Niedersachsen\, 31863\, Deutschland
CATEGORIES:Feuerwehr
ORGANIZER;CN="Freiwillige Feuerwehr Bessingen":MAILTO:feuerwehr@bessingen.com
END:VEVENT
END:VCALENDAR