BEGIN:VCALENDAR
VERSION:2.0
PRODID:-//Bessingen - ECPv6.15.20//NONSGML v1.0//EN
CALSCALE:GREGORIAN
METHOD:PUBLISH
X-WR-CALNAME:Bessingen
X-ORIGINAL-URL:https://bessingen.com
X-WR-CALDESC:Veranstaltungen für Bessingen
REFRESH-INTERVAL;VALUE=DURATION:PT1H
X-Robots-Tag:noindex
X-PUBLISHED-TTL:PT1H
BEGIN:VTIMEZONE
TZID:Europe/Berlin
BEGIN:DAYLIGHT
TZOFFSETFROM:+0100
TZOFFSETTO:+0200
TZNAME:CEST
DTSTART:20230326T010000
END:DAYLIGHT
BEGIN:STANDARD
TZOFFSETFROM:+0200
TZOFFSETTO:+0100
TZNAME:CET
DTSTART:20231029T010000
END:STANDARD
BEGIN:DAYLIGHT
TZOFFSETFROM:+0100
TZOFFSETTO:+0200
TZNAME:CEST
DTSTART:20240331T010000
END:DAYLIGHT
BEGIN:STANDARD
TZOFFSETFROM:+0200
TZOFFSETTO:+0100
TZNAME:CET
DTSTART:20241027T010000
END:STANDARD
BEGIN:DAYLIGHT
TZOFFSETFROM:+0100
TZOFFSETTO:+0200
TZNAME:CEST
DTSTART:20250330T010000
END:DAYLIGHT
BEGIN:STANDARD
TZOFFSETFROM:+0200
TZOFFSETTO:+0100
TZNAME:CET
DTSTART:20251026T010000
END:STANDARD
END:VTIMEZONE
BEGIN:VEVENT
DTSTART;TZID=Europe/Berlin:20240411T130000
DTEND;TZID=Europe/Berlin:20240411T150000
DTSTAMP:20260420T045932
CREATED:20240325T221947Z
LAST-MODIFIED:20240325T221947Z
UID:37357-1712840400-1712847600@bessingen.com
SUMMARY:Infoveranstaltung geplanter Stromtrassenverlauf "Rhein-Main-Link"
DESCRIPTION:Firma Amprion lädt zu einer Infoveranstaltung aufgrund des geplanten Stromtrassenverlaufs des „Rhein-Main-Links“ durch das Gemeindegebiet ins DGH Bessingen ein. \nInfos zum Projekt: https://rhein-main-link.amprion.net/Rhein-Main-Link/Das-Projekt/ \nDer geplante Trassenverlauf kann hier eingesehen werden: https://rhein-main-link.amprion.net/Rhein-Main-Link/Verlauf/ \n \nHier weitere Termine: https://rhein-main-link.amprion.net/Dialog/Termine/
URL:https://bessingen.com/event/infoveranstaltung-geplanter-stromtrassenverlauf-rhein-main-link/
LOCATION:DGH\, Bessinger Straße 24\, Coppenbrügge\, Niedersachsen\, 31863\, Deutschland
CATEGORIES:Allgemeine Veranstaltungen,Sonstiges
ATTACH;FMTTYPE=image/jpeg:https://bessingen.com/wp-content/uploads/Trassenverlauf-RHEIN-MAIN-LINK.jpg
END:VEVENT
END:VCALENDAR